BEGIN:VCALENDAR
VERSION:2.0
PRODID:-//College of Forestry, Wildlife and Environment - ECPv6.11.2//NONSGML v1.0//EN
CALSCALE:GREGORIAN
METHOD:PUBLISH
X-WR-CALNAME:College of Forestry, Wildlife and Environment
X-ORIGINAL-URL:https://cfwe.auburn.edu
X-WR-CALDESC:Events for College of Forestry, Wildlife and Environment
REFRESH-INTERVAL;VALUE=DURATION:PT1H
X-Robots-Tag:noindex
X-PUBLISHED-TTL:PT1H
BEGIN:VTIMEZONE
TZID:America/New_York
BEGIN:DAYLIGHT
TZOFFSETFROM:-0500
TZOFFSETTO:-0400
TZNAME:EDT
DTSTART:20250309T070000
END:DAYLIGHT
BEGIN:STANDARD
TZOFFSETFROM:-0400
TZOFFSETTO:-0500
TZNAME:EST
DTSTART:20251102T060000
END:STANDARD
END:VTIMEZONE
BEGIN:VEVENT
DTSTART;TZID=America/New_York:20250227T140000
DTEND;TZID=America/New_York:20250227T163000
DTSTAMP:20260423T065312
CREATED:20250106T221237Z
LAST-MODIFIED:20250221T171949Z
UID:26792-1740664800-1740673800@cfwe.auburn.edu
SUMMARY:Emmett & ViAnn Thompson Lecture in Forest Economics and Policy
DESCRIPTION:  \n  \n  \nThe College of Forestry\, Wildlife and Environment’s inaugural Emmett & ViAnn Thompson Lecture in Forest Economics and Policy will proudly present Thompson Distinguished Lecturer Brooks Mendell\, president and CEO of Forisk Consulting\, on Thursday\, Feb. 27\, at 2 p.m. at The Hotel at Auburn University and Dixon Conference Center located at 241 S. College Street in Auburn\, Ala. \nThis lecture series in forest economics and policy was established in the College of Forestry\, Wildlife and Environment by the College’s founding dean\, Emmett F. Thompson\, and his wife\, ViAnn. The annual series will enrich the college’s academic programs with speakers of national and international acclaim who possess expertise in forestry and natural resources with a focus on forest economics and policy. \nTitle: Forest Finance and Economics: Making Investment Decisions in Times of Uncertainty\n\nLecture Abstract:\nInvestment decisions in forestry and all other asset classes are not made in vacuums. The physical facts on the ground\, the priorities of key stakeholders and the external policy environment affect the economic context in which these decisions are made. Within a framework that accounts for financial objectives\, what do the economics of the south’s forest industry and timberland sectors indicate about the sector’s future competitiveness? What lessons can we draw that might apply more generally when making choices with emerging markets and assets associated with the natural environment?\n\nSpeaker Biography:\nBrooks Mendell possesses three decades of consulting\, operating and research experience in the forest products and timber industries. His experience includes roles in harvest operations and procurement with Weyerhaeuser\, in management consulting with Accenture and as a faculty member in forestry and finance at the University of Georgia (UGA). A Fulbright Scholar in Uruguay\, Mendell founded Forisk in 2004. He has broad domestic and international experience supporting small businesses\, Fortune 500 corporations and public organizations. An inductee in the Georgia Foresters Hall of Fame\, he earned bachelor’s and master’s degrees at Massachusetts Institute of Technology (MIT)\, an MBA at the University of California at Berkeley and a doctorate in forest finance at UGA. \nEvent Details:\nAuburn University faculty\, staff\, students\, alumni and industry professionals are welcome to attend the lecture and reception taking place at The Hotel at Auburn University and Dixon Conference Center Auditorium and Grand Ballroom. Admission is complimentary. \nAttendee parking is available adjacent to the conference center in the Auburn University South College Parking Deck. For more information\, contact Marc Walley\, chair of the planning committee\, at mwalley@forestinvest.com.
URL:https://cfwe.auburn.edu/event/emmett-viann-thompson-lecture-in-forest-econonics-and-policy/
LOCATION:The Auburn Hotel & Dixon Conference Center\, 241 S College S\, Auburn\, AL\, 36849\, United States
CATEGORIES:Events,Main Calendar
ATTACH;FMTTYPE=image/jpeg:https://cfwe.auburn.edu/wp-content/uploads/2025/01/Emmett-and-ViAnn-featured-image.jpg
END:VEVENT
END:VCALENDAR