BEGIN:VCALENDAR
VERSION:2.0
PRODID:-//College of Forestry, Wildlife and Environment - ECPv6.11.2//NONSGML v1.0//EN
CALSCALE:GREGORIAN
METHOD:PUBLISH
X-WR-CALNAME:College of Forestry, Wildlife and Environment
X-ORIGINAL-URL:https://cfwe.auburn.edu
X-WR-CALDESC:Events for College of Forestry, Wildlife and Environment
REFRESH-INTERVAL;VALUE=DURATION:PT1H
X-Robots-Tag:noindex
X-PUBLISHED-TTL:PT1H
BEGIN:VTIMEZONE
TZID:America/Chicago
BEGIN:DAYLIGHT
TZOFFSETFROM:-0600
TZOFFSETTO:-0500
TZNAME:CDT
DTSTART:20240310T080000
END:DAYLIGHT
BEGIN:STANDARD
TZOFFSETFROM:-0500
TZOFFSETTO:-0600
TZNAME:CST
DTSTART:20241103T070000
END:STANDARD
END:VTIMEZONE
BEGIN:VEVENT
DTSTART;TZID=America/Chicago:20240405T143000
DTEND;TZID=America/Chicago:20240405T170000
DTSTAMP:20260420T191544
CREATED:20240321T171041Z
LAST-MODIFIED:20240321T233608Z
UID:12089-1712327400-1712336400@cfwe.auburn.edu
SUMMARY:Geospatial and Environmental Informatics Open House
DESCRIPTION:The College of Forestry\, Wildlife and Environment will host an open house on Friday\, April 5\, for future students interested in the college’s newly restructured Geospatial and Environmental Informatics major. One of the few programs in the Southeast\, Auburn’s Geospatial and Environmental Informatics (GSEI) undergraduate degree program employs a unique\, interdisciplinary approach to teaching geospatial systems and technologies that provides students with expertise for careers such as environmental data scientist\, geospatial analyst\, or GIS manager. \nWith recent changes to the curriculum\, the degree is more transfer-friendly for students who require greater flexibility and desire a more diverse skill set for various careers. The college has also revamped the course technology\, including tools like geographic information systems (GIS)\, the global positioning system (GPS)\, satellite-based remote sensing\, computer learning simulation and drone imaging. Today\, GSEI courses are based on Python\, the dominant data science and machine learning program. Employing this beginner-friendly language makes geospatial tools and data more accessible to learn. \nStudents interested in learning more about the major are invited to attend the GSEI Open House on Friday\, April 5\, at 2:30 p.m. at the Forestry\, Wildlife and Environment Building at 602 Duncan Drive\, Auburn\, Ala. Attendees will enjoy refreshments in the EBSCO Atrium and opportunities to visit with GSEI students\, faculty\, and an academic advisor.
URL:https://cfwe.auburn.edu/event/geospatial-and-environmental-informatics-open-house/
LOCATION:College of Forestry\, Wildlife and Environment Building\, 602 Duncan Drive\, Auburn University\, AL\, 36849
CATEGORIES:CFWE Student Event,Main Calendar
ORGANIZER;CN="Office of Student Services":MAILTO:workingwithnature@auburn.edu
END:VEVENT
BEGIN:VEVENT
DTSTART;TZID=America/Chicago:20240417T170000
DTEND;TZID=America/Chicago:20240417T190000
DTSTAMP:20260420T191544
CREATED:20240328T181906Z
LAST-MODIFIED:20240328T185028Z
UID:12264-1713373200-1713380400@cfwe.auburn.edu
SUMMARY:Awards Reception and Ceremony
DESCRIPTION:  \n \nFaculty\, staff\, and students are invited to attend the College of Forestry\, Wildlife and Environment’s annual Awards Reception and Ceremony on Wednesday\, April 17\, in the Forestry\, Wildlife and Environment Building Conference Room 1101. Attendees will celebrate the awardees and the generous donors who support academic excellence in the College with a reception at 5 p.m. and awards ceremony at 6 p.m. Parking is available in the South Quad Parking Deck across from the College located at 602 Duncan Drive\, Auburn\, Ala.
URL:https://cfwe.auburn.edu/event/awards-reception-and-ceremony/
LOCATION:College of Forestry\, Wildlife and Environment Building\, 602 Duncan Drive\, Auburn University\, AL\, 36849
CATEGORIES:CFWE Student Event,Events,Main Calendar
ORGANIZER;CN="Office of Student Services":MAILTO:workingwithnature@auburn.edu
END:VEVENT
END:VCALENDAR