BEGIN:VCALENDAR
VERSION:2.0
PRODID:-//College of Forestry, Wildlife and Environment - ECPv6.11.2//NONSGML v1.0//EN
CALSCALE:GREGORIAN
METHOD:PUBLISH
X-WR-CALNAME:College of Forestry, Wildlife and Environment
X-ORIGINAL-URL:https://cfwe.auburn.edu
X-WR-CALDESC:Events for College of Forestry, Wildlife and Environment
REFRESH-INTERVAL;VALUE=DURATION:PT1H
X-Robots-Tag:noindex
X-PUBLISHED-TTL:PT1H
BEGIN:VTIMEZONE
TZID:America/Chicago
BEGIN:DAYLIGHT
TZOFFSETFROM:-0600
TZOFFSETTO:-0500
TZNAME:CDT
DTSTART:20220313T080000
END:DAYLIGHT
BEGIN:STANDARD
TZOFFSETFROM:-0500
TZOFFSETTO:-0600
TZNAME:CST
DTSTART:20221106T070000
END:STANDARD
END:VTIMEZONE
BEGIN:VEVENT
DTSTART;TZID=America/Chicago:20220819T090000
DTEND;TZID=America/Chicago:20220819T150000
DTSTAMP:20260423T101348
CREATED:20220720T001339Z
LAST-MODIFIED:20260324T185424Z
UID:9458-1660899600-1660921200@cfwe.auburn.edu
SUMMARY:Alabama Water Watch Monitoring Training - Prattville
DESCRIPTION:This is the final component of a hybrid (online and in-person) training opportunity. *You must register by August 2nd* Become a certified Volunteer Monitor with Alabama Water Watch (AWW)! This program The program is held in conjunction with the Alabama Watershed Stewards Program which is funded by the Alabama Department of Environmental Management. Available certifications include AWW Water Chemistry Monitoring and Bacteriological Monitoring. You must complete each of the steps outlined below to receive your monitoring certification.\nFollow these steps to get started:\n1. Register online for training by August 2nd.\n2. On the registration form\, select the monitoring type(s) for which you would like certification.\nOn August 2nd:\nParticipate in the Kick-Off Zoom from 12-1 pm. This is not required for certification\, but will help you navigate the training process and meet AWW Staff.\nUse the link and instructions you receive via email following the Kick-Off Zoom to enroll in the Online Courses required for the certification type(s) you requested.\nBy Midnight on August 16th:\nComplete the self-paced\, online coursework for the monitoring type(s) of interest.\nIntroduction to AL Water Watch – This course is required for all monitoring types and must be completed to unlock all other AWW Online Courses. (1 hour)\nBacteriological Monitoring Course (90 minutes)\nWater Chemistry Monitoring Course (2 hours)\nOn August 19th:\nAttend the in-person Field Day at the Trustmark Bank Community Room in Prattville\, AL where you will demonstrate your ability to conduct monitoring tests under the observation of an AWW Trainer. Participants will be expected to follow CDC guidelines regarding in-person gatherings during the trainings.\nField Day Schedule:\n8:45 am Check-In for Water Chemistry Monitoring Session\n9:00 am Water Chemistry Monitoring Session\n12:00 am Lunch Break (bring a sack lunch)\n12:45 pm Check-In for Bacteriological Monitoring Session\n1:00 pm Bacteriological Monitoring Session\n3:00 pm Adjourn Address: Trustmark Bank Community Room 3160 Main St Prattville\, AL 36054 Contact: Sydney Zinner srs0029@auburn.edu (334) 844-9210 Register Online View this event online: https://www.aces.edu/event/alabama-water-watch-monitoring-training-millbrook/
URL:https://cfwe.auburn.edu/event/alabama-water-watch-monitoring-training-prattville/
LOCATION:Trustmark Bank Community Room\, 3160 Main St\, Prattville\, AL\, 36054
CATEGORIES:ACES
ORGANIZER;CN="Sydney Zinner":MAILTO:srs0029@auburn.edu
END:VEVENT
END:VCALENDAR