BEGIN:VCALENDAR
VERSION:2.0
PRODID:-//College of Forestry, Wildlife and Environment - ECPv6.11.2//NONSGML v1.0//EN
CALSCALE:GREGORIAN
METHOD:PUBLISH
X-WR-CALNAME:College of Forestry, Wildlife and Environment
X-ORIGINAL-URL:https://cfwe.auburn.edu
X-WR-CALDESC:Events for College of Forestry, Wildlife and Environment
REFRESH-INTERVAL;VALUE=DURATION:PT1H
X-Robots-Tag:noindex
X-PUBLISHED-TTL:PT1H
BEGIN:VTIMEZONE
TZID:America/Chicago
BEGIN:DAYLIGHT
TZOFFSETFROM:-0600
TZOFFSETTO:-0500
TZNAME:CDT
DTSTART:20220313T080000
END:DAYLIGHT
BEGIN:STANDARD
TZOFFSETFROM:-0500
TZOFFSETTO:-0600
TZNAME:CST
DTSTART:20221106T070000
END:STANDARD
END:VTIMEZONE
BEGIN:VEVENT
DTSTART;TZID=America/Chicago:20220817T100000
DTEND;TZID=America/Chicago:20220817T113000
DTSTAMP:20260423T153134
CREATED:20220718T001318Z
LAST-MODIFIED:20260324T185257Z
UID:9429-1660730400-1660735800@cfwe.auburn.edu
SUMMARY:Nuisance Wildlife Management
DESCRIPTION:Nuisance wildlife management is an issue for many homeowners as well as landowners. During this program\, Dr. Wesley Anderson will talk about some common nuisance wildlife and different management strategies. Address: Chilton County Extension Office 504 First Ave. North Clanton\, AL 35045 Contact: Lynn Dickinson rhodela@aces.edu (334) 303-8360 View this event online: https://www.aces.edu/event/nuisance-wildlife-management/
URL:https://cfwe.auburn.edu/event/nuisance-wildlife-management/
LOCATION:Chilton County Extension Office\, 504 First Ave. North\, Clanton\, AL\, 35045
CATEGORIES:ACES
ORGANIZER;CN="Lynn Dickinson":MAILTO:rhodela@aces.edu
END:VEVENT
BEGIN:VEVENT
DTSTART;TZID=America/Chicago:20220817T120000
DTEND;TZID=America/Chicago:20220817T130000
DTSTAMP:20260423T153134
CREATED:20220718T001319Z
LAST-MODIFIED:20260324T185317Z
UID:9430-1660737600-1660741200@cfwe.auburn.edu
SUMMARY:Forestry\, Wildlife\, Natural Resources Team Webinar Series
DESCRIPTION:This talk will outline trophy pond management for bass and bream as well as the enhancements that pond owners may use to help tip the scales in favor of trophy fish production. Contact: Norm Haley nvh0001@aces.edu (256) 574-2143 Register Online View this event online: https://www.aces.edu/event/forestry-wildlife-natural-resources-team-webinar-series-4/
URL:https://cfwe.auburn.edu/event/forestry-wildlife-natural-resources-team-webinar-series-5/
LOCATION:Online
CATEGORIES:ACES
ORGANIZER;CN="Norm Haley":MAILTO:nvh0001@aces.edu
END:VEVENT
BEGIN:VEVENT
DTSTART;TZID=America/Chicago:20220817T140000
DTEND;TZID=America/Chicago:20220817T143000
DTSTAMP:20260423T153134
CREATED:20220718T001319Z
LAST-MODIFIED:20260324T185342Z
UID:9431-1660744800-1660746600@cfwe.auburn.edu
SUMMARY:Alabama Garden Chat
DESCRIPTION:Alabama Garden Chat is back! If you have questions about your gardens and landscapes\, feel free to email us at alabamagardenchat@gmail.com! We will go through questions every Wednesday at 2:00 pm\, right after the Alabama Smart Yards webinar. Join our Alabama Garden Chat webinar at www.aces.edu/go/asywebinars. Alabama Garden Chat will run April-August. The first Alabama Garden Chat of the year will start on April 6th! Contact: Jack LeCroy jml0003@auburn.edu 251-288-2874 View this event online: https://www.aces.edu/event/alabama-garden-chat-20/
URL:https://cfwe.auburn.edu/event/alabama-garden-chat-10/
LOCATION:Online
CATEGORIES:ACES
ORGANIZER;CN="Jack LeCroy":MAILTO:jml0003@auburn.edu
END:VEVENT
END:VCALENDAR