BEGIN:VCALENDAR
VERSION:2.0
PRODID:-//College of Forestry, Wildlife and Environment - ECPv6.11.2//NONSGML v1.0//EN
CALSCALE:GREGORIAN
METHOD:PUBLISH
X-WR-CALNAME:College of Forestry, Wildlife and Environment
X-ORIGINAL-URL:https://cfwe.auburn.edu
X-WR-CALDESC:Events for College of Forestry, Wildlife and Environment
REFRESH-INTERVAL;VALUE=DURATION:PT1H
X-Robots-Tag:noindex
X-PUBLISHED-TTL:PT1H
BEGIN:VTIMEZONE
TZID:America/Chicago
BEGIN:DAYLIGHT
TZOFFSETFROM:-0600
TZOFFSETTO:-0500
TZNAME:CDT
DTSTART:20220313T080000
END:DAYLIGHT
BEGIN:STANDARD
TZOFFSETFROM:-0500
TZOFFSETTO:-0600
TZNAME:CST
DTSTART:20221106T070000
END:STANDARD
END:VTIMEZONE
BEGIN:VEVENT
DTSTART;TZID=America/Chicago:20220811T083000
DTEND;TZID=America/Chicago:20220811T140000
DTSTAMP:20260420T161418
CREATED:20220712T001403Z
LAST-MODIFIED:20260324T184914Z
UID:9327-1660206600-1660226400@cfwe.auburn.edu
SUMMARY:Recreational Pond Management Workshop
DESCRIPTION:This event will provide a great opportunity for pond owners and managers to gain a better understanding of what it takes to properly construct\, manage\, and maintain a recreational pond. The indoor presentations and demonstrations will cover it all: construction\, stocking\, weed and wildlife control\, and everything in between. The cost for participation is FREE but pre-registration is required because seating is limited. Registration includes a seat at the workshop\, lunch\, and printed presentation materials and related publications. This is also a great time to bring your pond water to be tested for lime needs or to have your aquatic weeds identified. To register\, call the Cherokee Co Extension Office at: (256) 927-3250\nAVAILABLE: 5 Category 1 Continuing Forester Education\n5 Professional Logging Manager Points Address: Cherokee Co Chamber of Commerce 801 Cedar Bluff Rd Centre\, AL 35960 Contact: Cherokee County Extension Office rgw0013@aces.edu (256) 927-3250
URL:https://cfwe.auburn.edu/event/recreational-pond-management-workshop-2/
LOCATION:Cherokee Co Chamber of Commerce\, 801 Cedar Bluff Rd\, Centre\, AL\, 35960
CATEGORIES:ACES
ORGANIZER;CN="Cherokee County Extension Office":MAILTO:rgw0013@aces.edu
END:VEVENT
BEGIN:VEVENT
DTSTART;TZID=America/Chicago:20220811T090000
DTEND;TZID=America/Chicago:20220811T150000
DTSTAMP:20260420T161418
CREATED:20220712T001403Z
LAST-MODIFIED:20260324T184930Z
UID:9329-1660208400-1660230000@cfwe.auburn.edu
SUMMARY:Land Management Field Day - Autauga
DESCRIPTION:Join us for a land management field day! This field day will include presentations on timber management\, silvopastrue & agroforestry\, managing for deer & turkey\, trapping nuisance wildlife\, and portable sawmills. Some presentations will include demonstrations. PLM CEU’s are available & lunch will be served courtesy of River Bank & Trust. Address: Autauga County Extension Office 2226 AL Highway 14 W Autauga\, AL 36003 Contact: Lynn Dickinson rhodela@aces.edu (334) 303-8360 View this event online: https://www.aces.edu/event/land-management-field-day-autauga/
URL:https://cfwe.auburn.edu/event/land-management-field-day-autauga/
LOCATION:Autauga County Extension Office\, 2226 AL Highway 14 W\, Autauga\, AL\, 36003
CATEGORIES:ACES
ORGANIZER;CN="Lynn Dickinson":MAILTO:rhodela@aces.edu
END:VEVENT
BEGIN:VEVENT
DTSTART;TZID=America/Chicago:20220811T143000
DTEND;TZID=America/Chicago:20220811T173000
DTSTAMP:20260420T161418
CREATED:20220804T001344Z
LAST-MODIFIED:20260324T184950Z
UID:9638-1660228200-1660239000@cfwe.auburn.edu
SUMMARY:Eufaula Farmers Market
DESCRIPTION:Eufaula Farmers Market starts May 26 and will run until August. Market starts at 2:30 p.m. Address: Broad Street Eufaula\, AL 36027 Contact: Allie Logan corcoja@auburn.edu (334) 687-5688 View this event online: https://www.aces.edu/event/eufaula-farmers-market-13/
URL:https://cfwe.auburn.edu/event/eufaula-farmers-market-2/
LOCATION:Broad Street\, Eufaula\, AL\, 36027
CATEGORIES:ACES
ORGANIZER;CN="Allie Logan":MAILTO:corcoja@auburn.edu
END:VEVENT
BEGIN:VEVENT
DTSTART;TZID=America/Chicago:20220811T150000
DTEND;TZID=America/Chicago:20220811T200000
DTSTAMP:20260420T161418
CREATED:20220712T001403Z
LAST-MODIFIED:20260324T190058Z
UID:9331-1660230000-1660248000@cfwe.auburn.edu
SUMMARY:A Guide to Herbicides in Natural Areas
DESCRIPTION:This workshop will provide landowners and land managers with information on the use of herbicides in a variety of land management scenarios. Topics will include: – Pesticide Rules and Regulations\, Terminology and Safety – Federal Cost Share Opportunities – Forestry Herbicides and Application Methods for Common Management Goals – Sprayer Calibration – Invasive Species Identification and Management – Food Plot Management and Herbicides – Managing Vegetation In and Around Waterways.\nContinuing Education credits include: 5 – Cat 1 – ASBRF CFE\, 5 – PLM\, and 10 CPA – AQ\, ROW\, DR\, FOR\n***Workshop is free with no CEU credits; $50 with CEU credits. Address: Monroe County Conservation and Education Center 1 Teen Trail Monroeville\, AL 36460 Contact: J. Ryan Mitchell jrm0023@auburn.edu (251) 423-9415 View this event online: https://www.aces.edu/event/a-guide-to-herbicides-in-natural-areas-2/
URL:https://cfwe.auburn.edu/event/a-guide-to-herbicides-in-natural-areas/
LOCATION:Monroe County Conservation and Education Center\, 1 Teen Trail\, Monroeville\, AL\, 36460
CATEGORIES:ACES
ORGANIZER;CN="J. Ryan Mitchell":MAILTO:jrm0023@auburn.edu
END:VEVENT
END:VCALENDAR