BEGIN:VCALENDAR
VERSION:2.0
PRODID:-//College of Forestry, Wildlife and Environment - ECPv6.11.2//NONSGML v1.0//EN
CALSCALE:GREGORIAN
METHOD:PUBLISH
X-ORIGINAL-URL:https://cfwe.auburn.edu
X-WR-CALDESC:Events for College of Forestry, Wildlife and Environment
REFRESH-INTERVAL;VALUE=DURATION:PT1H
X-Robots-Tag:noindex
X-PUBLISHED-TTL:PT1H
BEGIN:VTIMEZONE
TZID:America/Chicago
BEGIN:DAYLIGHT
TZOFFSETFROM:-0600
TZOFFSETTO:-0500
TZNAME:CDT
DTSTART:20220313T080000
END:DAYLIGHT
BEGIN:STANDARD
TZOFFSETFROM:-0500
TZOFFSETTO:-0600
TZNAME:CST
DTSTART:20221106T070000
END:STANDARD
END:VTIMEZONE
BEGIN:VEVENT
DTSTART;TZID=America/Chicago:20220714T120000
DTEND;TZID=America/Chicago:20220714T130000
DTSTAMP:20260421T014935
CREATED:20220614T143007Z
LAST-MODIFIED:20260324T185735Z
UID:8928-1657800000-1657803600@cfwe.auburn.edu
SUMMARY:Misunderstood Species of Alabama: Insects & Arachnids
DESCRIPTION:During this one hour lunch and learn webinar\, we will be talking about misunderstood insects and arachnids. Contact: Lynn Dickinson rhodela@aces.edu (334) 303-8360 Register Online View this event online: https://www.aces.edu/event/misunderstood-species-of-alabama-insects-arachnids-2/
URL:https://cfwe.auburn.edu/event/misunderstood-species-of-alabama-insects-arachnids/
LOCATION:Online
CATEGORIES:ACES
ORGANIZER;CN="Lynn Dickinson":MAILTO:rhodela@aces.edu
END:VEVENT
BEGIN:VEVENT
DTSTART;TZID=America/Chicago:20220714T180000
DTEND;TZID=America/Chicago:20220714T193000
DTSTAMP:20260421T014935
CREATED:20220614T143007Z
LAST-MODIFIED:20260324T185756Z
UID:8930-1657821600-1657827000@cfwe.auburn.edu
SUMMARY:Well Owner Workshop - Talladega County
DESCRIPTION:Opportunity to learn about well water resources in Alabama and receive a free bacterial screening: A workshop is being offered by the Alabama Cooperative Extension System – Private Well Program to residents of Talladega County. Free bacterial sample screening is available to the first 30 registrants. Any Talladega County resident with a private well is eligible to participate. Register at AUB.IE/APWPTALLADEGA. Registrants must obtain sampling kits at the Talladega County Extension Office once registered. Sampling instructions will be sent to registrants. For questions\, call Jessie Curl at 334.844.3809\nThe Alabama Cooperative Extension System – Alabama Private Well Program (APWP) is an educational resource available to private well owners throughout Alabama. We want to learn about your groundwater to better understand risks and develop resources to help you maintain your well water quality. Workshop attendees can speak directly with water researchers and APWP staff and learn about the water testing program. Address: Talladega County Extension Office 123 North Court Street Talladega\, AL 35160 Contact: Jessica Curl jcurl@auburn.edu (334) 844-3809 AUB.IE/APWPTALLADEGA View this event online: https://www.aces.edu/event/well-owner-workshop-talladega-county/
URL:https://cfwe.auburn.edu/event/well-owner-workshop-talladega-county/
LOCATION:Talladega County Extension Office\, 123 North Court Street\, Talladega\, AL\, 35160
CATEGORIES:ACES
ORGANIZER;CN="Jessica Curl":MAILTO:jcurl@auburn.edu
END:VEVENT
END:VCALENDAR